{"text_format":"1","workbook":"xlsx","n_sheets":3,"sheets":["共通部分マスター","【記載例】市区町村別","【入力用】市区町村別 "],"not_rendered":{"charts":0,"images":0,"macros":1,"external_links":0,"defined_names":2,"comments":0,"pivot_tables":0},"unopened":[],"bounds":{"document_bytes":16777216,"sheet_cells":100000,"rows_first":2000,"rows_last":500,"rows_between":2000,"halvings":0,"cell_chars":16384,"cell_head_chars":4096},"cells_cut":0,"cells_raw":0,"read":"whole","date_system":"1900"}

{"sheet":"共通部分マスター","index":0,"n_rows":32,"n_cols":4,"rows_kept":32,"cut":false,"hidden":false,"merged":[[1,2,1,3]]}
[]
[null,null,"医療機関入力欄"]
[null,null,"施設等区分","1:医療機関"]
[null,null,"医療機関等コード",1234567890]
[null,null,"医療機関名","厚労病院○○○○○○○○○○○○"]
[null,null,"医院所在地","○○都○○区○○町○丁目○番○号"]
[null,null,"代表者肩書","〇〇〇"]
[null,null,"代表者氏名","労働太郎"]
[null,null,"電話番号","○○○ー○○○ー○○○○"]
[null,null,"金融コード","1234"]
[null,null,"振込先","○○銀行"]
[null,null,"支店名コード","123"]
[null,null,"支店名","○○支店"]
[null,null,"預金種目","１：普通　２：当座"]
[null,null,"口座番号","1234567"]
[null,null,"フリガナ","コウセイビョウイン○○○○"]
[null,null,"口座名義人","厚労病院○○○○○○○○○○○○"]
[]
[]
[null,null,"【入力時の注意事項】"]
[null,null,"・医療機関コードは、半角10桁の番号で入力してください。"]
[null,null,"・医療機関名は、１行あたり全角18文字以内におさめてください。"]
[null,null,"・市町村別の各請求書の欄外にて計算いただくと総括表まで仕上がる仕様です。"]
[null,null,"・入力内容に誤りがあると支払いが行えません。ご注意ください。"]
[null,null,"①健診・HI法",1290]
[null,null,"②健診・EIA法",2680]
[null,null,"③HI法",4930]
[null,null,"④EIA法",6320]
[null,null,"⑤夜間休日・HI法",5430]
[null,null,"⑥夜間休日・EIA法",6820]
[null,null,"接種単価",9980]
[null,null,"予診のみ",2880]

{"sheet":"【記載例】市区町村別","index":1,"n_rows":37,"n_cols":12,"rows_kept":37,"cut":false,"hidden":false,"merged":[[35,1,35,3],[35,4,35,10],[36,1,36,3],[36,4,36,10],[33,1,33,3],[33,4,33,7],[33,9,33,10],[34,1,34,3],[34,4,34,7],[34,9,34,10],[26,1,26,7],[26,14,26,16],[30,1,30,10],[32,1,32,3],[32,4,32,7],[32,9,32,10],[22,15,22,16],[23,1,25,3],[23,4,23,7],[23,14,25,14],[23,15,23,16],[24,4,24,7],[24,15,24,16],[25,4,25,7],[25,15,25,16],[19,15,19,16],[20,4,20,7],[20,15,20,16],[21,4,21,7],[21,15,21,16],[10,1,10,11],[12,5,12,9],[16,1,22,3],[16,4,16,7],[16,14,22,14],[19,4,19,7],[22,4,22,7],[16,15,16,16],[17,4,17,7],[17,15,17,16],[18,4,18,7],[18,15,18,16],[9,14,9,16],[9,17,9,23],[1,1,1,6],[4,14,4,23],[5,14,5,16],[5,17,5,20],[5,22,5,23],[6,14,6,16],[6,17,6,20],[6,22,6,23],[7,14,7,16],[7,17,7,20],[7,22,7,23],[8,14,8,16],[8,17,8,23]]}
[]
[null,"新宿区長　様"]
[null,"市区町村番号"]
[null,1,3,1,0,4,1]
[null,null,null,null,null,null,null,null,{"$f":"共通部分マスター!D6","v":"○○都○○区○○町○丁目○番○号"}]
[null,null,null,null,null,null,null,null,"医療機関番号",{"$f":"共通部分マスター!D4","v":1234567890}]
[null,null,null,null,null,null,null,null,"代表者氏名",{"$f":"共通部分マスター!D5","v":"厚労病院○○○○○○○○○○○○"}]
[null,null,null,null,null,null,null,null,null,{"$f":"共通部分マスター!D7","v":"〇〇〇"},{"$f":"共通部分マスター!D8","v":"労働太郎"}]
[null,null,null,null,null,null,null,null,"電話番号",{"$f":"共通部分マスター!D9","v":"○○○ー○○○ー○○○○"}]
[]
[null,"風しん対策　市区町村別請求書(令和7年３月分）"]
[]
[null,null,null,null,null,{"$f":"K27","v":37279}]
[null,"風しんの追加的対策に係る費用として、上記の金額を請求いたします。"]
[null,"[内訳]"]
[null,null,null,null,null,null,null,null,"請求件数","請求金額（税抜）","請求金額（税込）"]
[null,"抗体検査",null,null,"①健診・HI法",null,null,null,1,{"$f":"共通部分マスター!D25*I17","v":1290},{"$f":"ROUNDDOWN(J17*(1+($K$29)/100),0)","v":1419}]
[null,null,null,null,"②健診・EIA法",null,null,null,0,{"$f":"共通部分マスター!D26*I18","v":0},{"$f":"ROUNDDOWN(J18*(1+($K$29)/100),0)","v":0}]
[null,null,null,null,"③HI法",null,null,null,0,{"$f":"共通部分マスター!D27*I19","v":0},0]
[null,null,null,null,"④EIA法",null,null,null,2,{"$f":"共通部分マスター!D28*I20","v":12640},13904]
[null,null,null,null,"⑤夜間休日・HI法",null,null,null,0,{"$f":"共通部分マスター!D29*I21","v":0},0]
[null,null,null,null,"⑥夜間休日・EIA法",null,null,null,0,{"$f":"共通部分マスター!D30*I22","v":0},0]
[null,null,null,null,"小計",null,null,null,{"$f":"SUM(I17:I22)","v":3},{"$f":"SUM(J17:J22)","v":13930},{"$f":"SUM(K17:K22)","v":15323}]
[null,"予防接種",null,null,"通常",null,null,null,2,{"$f":"共通部分マスター!D31*I24","v":19960},{"$f":"ROUNDDOWN(J24*(1+(K29)/100),0)","v":21956}]
[null,null,null,null,"予診のみ",null,null,null,0,{"$f":"共通部分マスター!D32*I25","v":0},{"$f":"ROUNDDOWN(J25*(1+($K$29)/100),0)","v":0}]
[null,null,null,null,"小計",null,null,null,{"$f":"SUM(I24:I25)","v":2},{"$f":"SUM(J24:J25)","v":19960},{"$f":"ROUNDDOWN(J26*(1+($K$29)/100),0)","v":21956}]
[null,"合計",null,null,null,null,null,null,{"$f":"I23+I26","v":5},{"$f":"J23+J26","v":33890},{"$f":"K23+K26","v":37279}]
[]
[null,null,null,null,null,null,null,null,null,"消費税率",10,"％"]
[]
[null,"風しんの追加的対策に係る費用の支払については、以下の名義の預金口座に口座振替されるよう依頼します。"]
[]
[null,"（金融コード）",null,null,{"$f":"共通部分マスター!D10","v":"1234"},null,null,null,"（支店名コード）",{"$f":"共通部分マスター!D12","v":"123"}]
[null,"振込先",null,null,{"$f":"共通部分マスター!D11","v":"○○銀行"},null,null,null,"支店名",{"$f":"共通部分マスター!D13","v":"○○支店"}]
[null,"預金種目",null,null,{"$f":"共通部分マスター!D14","v":"１：普通　２：当座"},null,null,null,"口座番号",{"$f":"共通部分マスター!D15","v":"1234567"}]
[null,"（フリガナ）",null,null,{"$f":"共通部分マスター!D16","v":"コウセイビョウイン○○○○"}]
[null,"口座名義人",null,null,{"$f":"共通部分マスター!D17","v":"厚労病院○○○○○○○○○○○○"}]

{"sheet":"【入力用】市区町村別 ","index":2,"n_rows":37,"n_cols":12,"rows_kept":37,"cut":false,"hidden":false,"merged":[[35,1,35,3],[35,4,35,10],[36,1,36,3],[36,4,36,10],[33,1,33,3],[33,4,33,7],[33,9,33,10],[34,1,34,3],[34,4,34,7],[34,9,34,10],[30,1,30,10],[32,1,32,3],[32,4,32,7],[32,9,32,10],[16,1,22,3],[16,4,16,7],[26,1,26,7],[21,4,21,7],[7,17,7,20],[7,22,7,23],[9,14,9,16],[9,17,9,23],[8,17,8,23],[8,14,8,16],[20,4,20,7],[20,15,20,16],[19,4,19,7],[17,4,17,7],[18,4,18,7],[19,15,19,16],[6,17,6,20],[5,17,5,20],[6,22,6,23],[5,22,5,23],[4,14,4,23],[1,1,1,6],[7,14,7,16],[6,14,6,16],[5,14,5,16],[12,5,12,9],[10,1,10,11],[6,9,6,12],[7,10,7,12],[26,14,26,16],[22,4,22,7],[22,15,22,16],[23,1,25,3],[23,4,23,7],[23,14,25,14],[23,15,23,16],[24,4,24,7],[24,15,24,16],[25,4,25,7],[25,15,25,16],[16,14,22,14],[21,15,21,16],[16,15,16,16],[17,15,17,16],[18,15,18,16]]}
[]
[null,"新宿区長　様"]
[null,"市区町村番号"]
[null,1,3,1,0,4,1]
[null,null,null,null,null,null,null,null,{"$f":"共通部分マスター!D6","v":"○○都○○区○○町○丁目○番○号"}]
[null,null,null,null,null,null,null,null,"医療機関番号",{"$f":"共通部分マスター!D4","v":1234567890}]
[null,null,null,null,null,null,null,null,"医療機関名",{"$f":"共通部分マスター!D5","v":"厚労病院○○○○○○○○○○○○"}]
[null,null,null,null,null,null,null,null,"代表者氏名",{"$f":"共通部分マスター!D7","v":"〇〇〇"},{"$f":"共通部分マスター!D8","v":"労働太郎"}]
[null,null,null,null,null,null,null,null,"電話番号",{"$f":"共通部分マスター!D9","v":"○○○ー○○○ー○○○○"}]
[]
[null,"風しん対策　市区町村別請求書(令和7年３月分）"]
[]
[null,null,null,null,null,{"$f":"K27","v":0}]
[null,"風しんの追加的対策に係る費用として、上記の金額を請求いたします。"]
[null,"[内訳]"]
[null,null,null,null,null,null,null,null,"請求件数","請求金額（税抜）","請求金額（税込）"]
[null,"抗体検査",null,null,"①健診・HI法",null,null,null,0,{"$f":"共通部分マスター!D25*I17","v":0},{"$f":"ROUNDDOWN(J17*(1+($K$29)/100),0)","v":0}]
[null,null,null,null,"②健診・EIA法",null,null,null,0,{"$f":"共通部分マスター!D26*I18","v":0},{"$f":"ROUNDDOWN(J18*(1+($K$29)/100),0)","v":0}]
[null,null,null,null,"③HI法",null,null,null,0,{"$f":"共通部分マスター!D27*I19","v":0},0]
[null,null,null,null,"④EIA法",null,null,null,0,{"$f":"共通部分マスター!D28*I20","v":0},0]
[null,null,null,null,"⑤夜間休日・HI法",null,null,null,0,{"$f":"共通部分マスター!D29*I21","v":0},0]
[null,null,null,null,"⑥夜間休日・EIA法",null,null,null,0,{"$f":"共通部分マスター!D30*I22","v":0},0]
[null,null,null,null,"小計",null,null,null,{"$f":"SUM(I17:I22)","v":0},{"$f":"SUM(J17:J22)","v":0},{"$f":"SUM(K17:K22)","v":0}]
[null,"予防接種",null,null,"通常",null,null,null,0,{"$f":"共通部分マスター!D31*I24","v":0},{"$f":"ROUNDDOWN(J24*(1+(K29)/100),0)","v":0}]
[null,null,null,null,"予診のみ",null,null,null,0,{"$f":"共通部分マスター!D32*I25","v":0},{"$f":"ROUNDDOWN(J25*(1+($K$29)/100),0)","v":0}]
[null,null,null,null,"小計",null,null,null,{"$f":"SUM(I24:I25)","v":0},{"$f":"SUM(J24:J25)","v":0},{"$f":"ROUNDDOWN(J26*(1+($K$29)/100),0)","v":0}]
[null,"合計",null,null,null,null,null,null,{"$f":"I23+I26","v":0},{"$f":"J23+J26","v":0},{"$f":"K23+K26","v":0}]
[]
[null,null,null,null,null,null,null,null,null,"消費税率",10,"％"]
[]
[null,"風しんの追加的対策に係る費用の支払については、以下の名義の預金口座に口座振替\nされるよう依頼します。"]
[]
[null,"（金融コード）",null,null,{"$f":"共通部分マスター!D10","v":"1234"},null,null,null,"（支店名コード）",{"$f":"共通部分マスター!D12","v":"123"}]
[null,"振込先",null,null,{"$f":"共通部分マスター!D11","v":"○○銀行"},null,null,null,"支店名",{"$f":"共通部分マスター!D13","v":"○○支店"}]
[null,"預金種目",null,null,{"$f":"共通部分マスター!D14","v":"１：普通　２：当座"},null,null,null,"口座番号",{"$f":"共通部分マスター!D15","v":"1234567"}]
[null,"（フリガナ）",null,null,{"$f":"共通部分マスター!D16","v":"コウセイビョウイン○○○○"}]
[null,"口座名義人",null,null,{"$f":"共通部分マスター!D17","v":"厚労病院○○○○○○○○○○○○"}]